BEGIN:VCALENDAR
VERSION:2.0
PRODID:-//wp-events-plugin.com//7.2.3.1//EN
TZID:Europe/Berlin
X-WR-TIMEZONE:Europe/Berlin
BEGIN:VEVENT
UID:6@stuttgart-partyband.de
DTSTART;TZID=Europe/Berlin:20260627T200000
DTEND;TZID=Europe/Berlin:20260627T200000
DTSTAMP:20260122T111845Z
URL:https://stuttgart-partyband.de/events/ball-der-gewerkschaft-der-polize
 i-2/
SUMMARY:Ball der Gewerkschaft der Polizei
DESCRIPTION:Ball der Gewerkschaft der Polizei. Eintritt frei - bitte Karten
  vorbestellen.
LOCATION:Stadthalle Balingen\, Hischbergstr. 38\, Balingen\, 72336\, 
X-APPLE-STRUCTURED-LOCATION;VALUE=URI;X-ADDRESS=Hischbergstr. 38\, Balingen
 \, 72336\, ;X-APPLE-RADIUS=100;X-TITLE=Stadthalle Balingen:geo:0,0
END:VEVENT
BEGIN:VTIMEZONE
TZID:Europe/Berlin
X-LIC-LOCATION:Europe/Berlin
BEGIN:DAYLIGHT
DTSTART:20260329T030000
TZOFFSETFROM:+0100
TZOFFSETTO:+0200
TZNAME:CEST
END:DAYLIGHT
END:VTIMEZONE
END:VCALENDAR