BEGIN:VCALENDAR
VERSION:2.0
PRODID:-//wp-events-plugin.com//7.2.3.1//EN
TZID:Europe/Berlin
X-WR-TIMEZONE:Europe/Berlin
BEGIN:VEVENT
UID:4@stuttgart-partyband.de
DTSTART;TZID=Europe/Berlin:20260314T200000
DTEND;TZID=Europe/Berlin:20260314T200000
DTSTAMP:20260103T090614Z
URL:https://stuttgart-partyband.de/events/ball-der-gewerkschaft-der-polize
 i/
SUMMARY:Ball der Gewerkschaft der Polizei
DESCRIPTION:Ball der Gewerkschaft der Polizei.\nEintritt frei !   Bitte Kar
 ten vorbestellen.
LOCATION:Ball der Gewerkschaft der Polizei Heilbronn\, Allee 28\, 74072 Hei
 lbronn\, Baden-Württemberg\, 74072\, 
X-APPLE-STRUCTURED-LOCATION;VALUE=URI;X-ADDRESS=Allee 28\, 74072 Heilbronn\
 , Baden-Württemberg\, 74072\, ;X-APPLE-RADIUS=100;X-TITLE=Ball der Gewerk
 schaft der Polizei Heilbronn:geo:0,0
END:VEVENT
BEGIN:VTIMEZONE
TZID:Europe/Berlin
X-LIC-LOCATION:Europe/Berlin
BEGIN:STANDARD
DTSTART:20251026T020000
TZOFFSETFROM:+0200
TZOFFSETTO:+0100
TZNAME:CET
END:STANDARD
END:VTIMEZONE
END:VCALENDAR